BEGIN:VCALENDAR
VERSION:2.0
PRODID:-//FGTA-FO Emplois de la famille - ECPv6.8.1//NONSGML v1.0//EN
CALSCALE:GREGORIAN
METHOD:PUBLISH
X-ORIGINAL-URL:https://emploisdelafamille-fo.fr
X-WR-CALDESC:Évènements pour FGTA-FO Emplois de la famille
REFRESH-INTERVAL;VALUE=DURATION:PT1H
X-Robots-Tag:noindex
X-PUBLISHED-TTL:PT1H
BEGIN:VTIMEZONE
TZID:Europe/Paris
BEGIN:DAYLIGHT
TZOFFSETFROM:+0100
TZOFFSETTO:+0200
TZNAME:CEST
DTSTART:20240331T010000
END:DAYLIGHT
BEGIN:STANDARD
TZOFFSETFROM:+0200
TZOFFSETTO:+0100
TZNAME:CET
DTSTART:20241027T010000
END:STANDARD
END:VTIMEZONE
BEGIN:VEVENT
DTSTART;TZID=Europe/Paris:20240615T083000
DTEND;TZID=Europe/Paris:20240615T130000
DTSTAMP:20260420T224013
CREATED:20240503T071333Z
LAST-MODIFIED:20240503T071536Z
UID:6140835-1718440200-1718456400@emploisdelafamille-fo.fr
SUMMARY:Conférence professionnelle du 15 juin 2024 à Angers
DESCRIPTION:Le syndicat national FO sera à Angers le 15 juin 2024 pour une réunion d’information sur votre CCN\, sur vos droits.\nNous aborderons tous les sujets comme les congés payés en arrêt maladie\, comment accueillir un enfant 50 h par mois ? Que veut dire l’accueil de 55 jours par an?  Les jours fériés etc…\nQu’à le droit de faire la Pmi ou pas ?\nVenez aussi avec vos questions\, nous aurons les réponses.\nInscrivez vous auprès de Marie-Claire;\nNous terminerons la matinée en vous offrant un apéro déjeunatoire.
URL:https://emploisdelafamille-fo.fr/event/6140835/
LOCATION:UD FO ANGERS
ATTACH;FMTTYPE=image/jpeg:https://emploisdelafamille-fo.fr/wp-content/uploads/2024/05/Conf-pro-angers_page-0001-scaled.jpg
ORGANIZER;CN="Syndicat National FO":MAILTO:mc.dufros@fgta-fo.org
END:VEVENT
END:VCALENDAR