BEGIN:VCALENDAR
VERSION:2.0
PRODID:-//FGTA-FO Emplois de la famille - ECPv6.8.1//NONSGML v1.0//EN
CALSCALE:GREGORIAN
METHOD:PUBLISH
X-ORIGINAL-URL:https://emploisdelafamille-fo.fr
X-WR-CALDESC:Évènements pour FGTA-FO Emplois de la famille
REFRESH-INTERVAL;VALUE=DURATION:PT1H
X-Robots-Tag:noindex
X-PUBLISHED-TTL:PT1H
BEGIN:VTIMEZONE
TZID:Europe/Paris
BEGIN:DAYLIGHT
TZOFFSETFROM:+0100
TZOFFSETTO:+0200
TZNAME:CEST
DTSTART:20240331T010000
END:DAYLIGHT
BEGIN:STANDARD
TZOFFSETFROM:+0200
TZOFFSETTO:+0100
TZNAME:CET
DTSTART:20241027T010000
END:STANDARD
END:VTIMEZONE
BEGIN:VEVENT
DTSTART;TZID=Europe/Paris:20241123T083000
DTEND;TZID=Europe/Paris:20241123T120000
DTSTAMP:20260420T164944
CREATED:20240917T160028Z
LAST-MODIFIED:20240917T160028Z
UID:6141697-1732350600-1732363200@emploisdelafamille-fo.fr
SUMMARY:Conférence professionnelle du 23 novembre à Annecy
DESCRIPTION:CONF PRO ANNECY
URL:https://emploisdelafamille-fo.fr/event/conference-professionnelle-du-23-novembre-a-annecy/
LOCATION:Hôtel Best Western\, 138 rue des Pâquerettes\, ANNECY\, 74260
ATTACH;FMTTYPE=image/jpeg:https://emploisdelafamille-fo.fr/wp-content/uploads/2024/09/CONF-PRO-ANNECY-scaled.jpg
ORGANIZER;CN="Syndicat National FO":MAILTO:mc.dufros@fgta-fo.org
END:VEVENT
END:VCALENDAR