BEGIN:VCALENDAR
VERSION:2.0
PRODID:-//FGTA-FO Emplois de la famille - ECPv6.8.1//NONSGML v1.0//EN
CALSCALE:GREGORIAN
METHOD:PUBLISH
X-WR-CALNAME:FGTA-FO Emplois de la famille
X-ORIGINAL-URL:https://emploisdelafamille-fo.fr
X-WR-CALDESC:Évènements pour FGTA-FO Emplois de la famille
REFRESH-INTERVAL;VALUE=DURATION:PT1H
X-Robots-Tag:noindex
X-PUBLISHED-TTL:PT1H
BEGIN:VTIMEZONE
TZID:Europe/Paris
BEGIN:DAYLIGHT
TZOFFSETFROM:+0100
TZOFFSETTO:+0200
TZNAME:CEST
DTSTART:20240331T010000
END:DAYLIGHT
BEGIN:STANDARD
TZOFFSETFROM:+0200
TZOFFSETTO:+0100
TZNAME:CET
DTSTART:20241027T010000
END:STANDARD
END:VTIMEZONE
BEGIN:VEVENT
DTSTART;TZID=Europe/Paris:20240928T083000
DTEND;TZID=Europe/Paris:20240928T130000
DTSTAMP:20260420T194924
CREATED:20240917T155534Z
LAST-MODIFIED:20240917T155534Z
UID:6141690-1727512200-1727528400@emploisdelafamille-fo.fr
SUMMARY:Conférence professionnelle du 28 septembre à Brest
DESCRIPTION:CONF PRO ANNECY CONF PRO BREST
URL:https://emploisdelafamille-fo.fr/event/conference-professionnelle-du-28-septembre-a-brest/
LOCATION:UD FO BREST\, 5 rue de l'Observatoire\, BREST\, 29200
ATTACH;FMTTYPE=image/png:https://emploisdelafamille-fo.fr/wp-content/uploads/2024/09/invitation-CONF-PRO-BREST.png
ORGANIZER;CN="Syndicat National FO":MAILTO:mc.dufros@fgta-fo.org
END:VEVENT
END:VCALENDAR